BEGIN:VCALENDAR
VERSION:2.0
PRODID:-//www.smeden.nl//NONSGML Smeden.nl//EN
CALSCALE:GREGORIAN
BEGIN:VEVENT
DESCRIPTION:NGK cursus gereedschappen smeden
DTEND;TZID="Europe/Amsterdam":20260627T170000
DTSTART;TZID="Europe/Amsterdam":20260612T083000
LOCATION:Batavialand, Lelystad
SUMMARY:NGK cursus gereedschappen smeden
URL;VALUE=URI:https://www.smeden.nl/agenda/ngk-cursus-gereedschappen-smeden/cursusgereedschappensmeden
DTSTAMP;TZID="Europe/Amsterdam":20260422T131439
UID:69e8ad9f529f5
END:VEVENT
END:VCALENDAR
